BEGIN:VCALENDAR
VERSION:2.0
PRODID:-//ChamberMaster//Event Calendar 2.0//EN
METHOD:PUBLISH
X-PUBLISHED-TTL:P3D
REFRESH-INTERVAL:P3D
CALSCALE:GREGORIAN
BEGIN:VEVENT
DTSTART:20241003T000000Z
DTEND:20241003T010000Z
X-MICROSOFT-CDO-ALLDAYEVENT:FALSE
SUMMARY:Alberta Board Member Essentials Program
DESCRIPTION:Have you considered joining a board? Do you want to become a better board member? The Alberta Board Member Essentials (ABME) program is designed to support the growth of new and developing board members. Next course starts on October 2. Register now!
X-ALT-DESC;FMTTYPE=text/html:<span style="font-family:georgia\,times\,times new roman\,serif\; font-size:16px">Have you considered joining a board? Do you want to become a better board member? The Alberta Board Member Essentials (ABME) program is designed to support the growth of new and developing board members. Next course starts on October 2.<a href="https://ecvo.teachable.com/p/abmef2024ecvo"> </a><a href="https://ecvo.wildapricot.org/event-5797187">Register now</a>!</span>
LOCATION:Virtual and in person
UID:e.3496.11140
SEQUENCE:3
DTSTAMP:20260425T174953Z
URL:http://edmontonchamber.chambermaster.com/events/details/alberta-board-member-essentials-11140
END:VEVENT

END:VCALENDAR
