BEGIN:VCALENDAR
VERSION:2.0
PRODID:-//ChamberMaster//Event Calendar 2.0//EN
METHOD:PUBLISH
X-PUBLISHED-TTL:P3D
REFRESH-INTERVAL:P3D
CALSCALE:GREGORIAN
BEGIN:VEVENT
DTSTART:20241022T143000Z
DTEND:20241022T173000Z
X-MICROSOFT-CDO-ALLDAYEVENT:FALSE
SUMMARY:Artificial Intelligence Literacy Training\, presented by Amii
DESCRIPTION:Ready to learn how AI can help drive innovation and growth in your business?\n\nPresented by Amii (Alberta Machine Intelligence Institute)\n\n\n\nIn this half-day AI Literacy workshop\, tailored for business professionals\, you'll gain a foundational understanding of AI and machine learning. Through real-world examples\, you'll explore ethical considerations\, the importance of data readiness\, and practical ways AI can optimize business operations\, improve decision-making\, increase customer satisfaction\, and more.\n\n\n\nLearn from a panel discussion followed by an interactive Q&A learning experience. Come with questions and learn from experts.\n\n\n\nWhat to Expect\n\nGet your coffee\, light breakfast\, and pull out your laptop as you learn about AI literacy!\n\n\n\n\n\n\n\nWelcoming Remarks brought to you by Servus Credit Union.
X-ALT-DESC;FMTTYPE=text/html:<span style="font-size:16px\;"><span style="color: rgb(0\, 0\, 0)\; white-space-collapse: preserve\;"><strong>Ready to learn how AI can help drive innovation and growth in your business?</strong></span></span><br />\n<em><span style="font-size: 16px\; white-space-collapse: preserve\; color: rgb(0\, 0\, 0)\;">Presented by<a href="https://www.amii.ca/"> </a></span><a href="https://www.amii.ca/" style="font-size: 16px\;">Amii (Alberta Machine Intelligence Institute)</a></em><br />\n<br />\n<span style="font-size:16px\;"><span style="color: rgb(0\, 0\, 0)\; white-space-collapse: preserve\;">In this half-day AI Literacy workshop\,</span></span>&nbsp\;<span style="font-size:16px\;"><span style="font-family:arial\;">tailored for business professionals\, you&rsquo\;ll gain a foundational understanding of AI and machine learning. Through real-world examples\, you&rsquo\;ll explore ethical considerations\, the importance of data readiness\, and practical ways AI can optimize business operations\, improve decision-making\, increase customer satisfaction\, and more.</span></span><br />\n<br />\n<span style="color: rgb(0\, 0\, 0)\; font-size: 16px\; white-space-collapse: preserve\;">Learn from a panel discussion followed by an interactive Q&amp\;A learning experience. Come with questions and learn from experts.<br />\n<br />\n<strong>What to Expect</strong><br />\nGet your coffee\, light breakfast\, and pull out your laptop as you learn about AI literacy!</span><br />\n<br />\n<br />\n<br />\n<em><span style="font-size:14px\;"><span style="white-space-collapse: preserve\;"><span style="color:#0000CD\;">Welcoming Remarks brought to you by </span><u><a href="https://servus.ca/business"><span style="color:#0000CD\;">Servus Credit Union</span></a></u><span style="color:#0000CD\;">. </span></span></span></em>
LOCATION:World Trade Centre 9990 Jasper Ave #600\, Edmonton\, AB T5J 1P7
UID:e.3496.11163
SEQUENCE:3
DTSTAMP:20260426T024906Z
URL:http://edmontonchamber.chambermaster.com/events/details/artificial-intelligence-literacy-training-presented-by-amii-11163
END:VEVENT

END:VCALENDAR
