BEGIN:VCALENDAR
VERSION:2.0
PRODID:-//ChamberMaster//Event Calendar 2.0//EN
METHOD:PUBLISH
X-PUBLISHED-TTL:P3D
REFRESH-INTERVAL:P3D
CALSCALE:GREGORIAN
BEGIN:VEVENT
DTSTART:20240919T230000Z
DTEND:20240920T010000Z
X-MICROSOFT-CDO-ALLDAYEVENT:FALSE
SUMMARY:Bridging Art and Leadership Panel
DESCRIPTION:Curious about how art and business intersect? Let's talk! Join us to increase knowledge and understanding of the shared value of leadership\, planning (business\, financial and/or strategic) and the visual arts. We will explore connections between leadership\, brand\, arts\, and creativity as a basis for effectively communicating\, problem solving\, and leading.  Network with professionals from various industries and challenge yourself to learn something new! Registration includes complimentary exhibition access.\n\nPanelists:\n\n\n	Carolyn Campbell\, President and CEO\, NorQuest College\n	Scott Downey\, Owner/Entrepreneur\, The Butternut Tree and The Marc\n	Michele Perret\, Principal\, Community Engagement Lead\, Stantec\n	More TBC!\n\n\nFacilitator:\n\n\n	Jeff Tetz\, CEO & Partner\, Results Business Consultants\n\n\nDoors open at 4:30 PM (including exhibition access). The panel discussion begins around 5:30 PM\, followed by networking with a cash bar.\n\nPresented by Canadian Western Bank as part of our Empowered Art & Business Market series\, this panel will give you many insights into blending business acumen with artistic creativity.
X-ALT-DESC;FMTTYPE=text/html:<p>Curious about how art and business intersect? Let&rsquo\;s talk! Join us to increase knowledge and understanding of the shared value of leadership\, planning (business\, financial and/or strategic) and the visual arts. We will&nbsp\;explore connections between leadership\, brand\, arts\, and creativity&nbsp\;as a basis for effectively communicating\, problem solving\, and leading. &nbsp\;Network with professionals from various industries and challenge yourself to learn something new! Registration includes complimentary exhibition access.</p>\n\n<p><strong>Panelists:</strong></p>\n\n<ul>\n	<li>Carolyn Campbell\, President and CEO\, NorQuest College</li>\n	<li>Scott Downey\,&nbsp\;Owner/Entrepreneur\, The Butternut Tree and The Marc</li>\n	<li>Michele Perret\, Principal\, Community Engagement Lead\, Stantec</li>\n	<li>More TBC!</li>\n</ul>\n\n<p><strong>Facilitator:</strong></p>\n\n<ul>\n	<li>Jeff Tetz\, CEO &amp\; Partner\, Results Business Consultants</li>\n</ul>\n\n<p>Doors open at 4:30 PM (including exhibition access). The panel discussion begins around 5:30 PM\, followed by networking with a cash bar.</p>\n\n<p>Presented by Canadian Western Bank as part of our&nbsp\;<a href="https://www.youraga.ca/events-features/market-series" style="box-sizing: inherit\; background-color: rgba(0\, 0\, 0\, 0)\; line-height: inherit\; color: rgb(0\, 168\, 226)\; text-decoration-line: none\; cursor: pointer\;" target="_blank">Empowered Art &amp\; Business Market series</a>\, this panel will give you many insights into blending business acumen with artistic creativity.</p>\n
LOCATION:Art Gallery of Alberta 2 Sir Winston Churchill Square Edmonton\, Alberta Canada T5J 2C1
UID:e.3496.11142
SEQUENCE:3
DTSTAMP:20260425T181433Z
URL:http://edmontonchamber.chambermaster.com/events/details/bridging-art-and-leadership-panel-11142
END:VEVENT

END:VCALENDAR
