BEGIN:VCALENDAR
VERSION:2.0
PRODID:-//ChamberMaster//Event Calendar 2.0//EN
METHOD:PUBLISH
X-PUBLISHED-TTL:P3D
REFRESH-INTERVAL:P3D
CALSCALE:GREGORIAN
BEGIN:VEVENT
DTSTART:20251015T233000Z
DTEND:20251016T013000Z
X-MICROSOFT-CDO-ALLDAYEVENT:FALSE
SUMMARY:L’Elixir des Glaciers Masterclass - inStore Edmonton
DESCRIPTION:Wednesday\, October 15  5:30 7:30 pm   $200\n\nHosted by Krista\, Valmont's National Educator\n\nJoin us at Loshen & Crem for an exclusive masterclass unveiling Valmont's Elixir des Glaciers\, a collection that defines Swiss luxury and scientific precision. Guided by Krista\, Valmont's National Educator\, this intimate event offers you a rare opportunity to discover one of the world's most coveted skincare lines.\n\nAs one of the few Canadian boutiques entrusted with this collection\, we are honored to share its story\, its science\, and its transformative results\, with you.\n\nYour experience includes:\n\n\n\n	A masterclass gift bag valued at over $900\, featuring some of Valmont's most iconic and transformative products (with a touch of mystery inside)\n	$100 credit toward your Elixir des Glaciers purchase that evening\n	Expert education and hands-on ritual discovery with Krista\n	Champagne & light bites to elevate the evening\n\n\nThis is a rare opportunity to begin your Valmont ritual\, where results meet refinement\, and skincare becomes art.\n\nEvent details:\n\n\n\n\n	Date & time: Wednesday\, October 15\, 5:30 7:30 pm\n	Location: Loshen & Crem\, Edmonton\n	Price: $200 (includes $900+ gift bag & $100 product credit)\n	Hosted by: Krista\, National Educator\, Valmont Canada\n	Capacity: Only 8 Spots Available
X-ALT-DESC;FMTTYPE=text/html:<p style="margin-left:0px\; margin-right:0px"><strong>Wednesday\, October 15&bull\; 5:30&ndash\;7:30 pm &bull\; $200</strong><br />\nHosted by Krista\, Valmont&rsquo\;s National Educator</p>\n\n<p>Join us at Loshen &amp\; Crem for an exclusive masterclass unveiling&nbsp\;Valmont&rsquo\;s Elixir des Glaciers\,&nbsp\;a collection that defines Swiss luxury and scientific precision. Guided by&nbsp\;Krista\, Valmont&rsquo\;s National Educator\, this intimate event offers you a rare opportunity to discover one of the world&rsquo\;s most coveted skincare lines.</p>\n\n<p>As one of the few Canadian boutiques entrusted with this collection\, we are honored to share its story\, its science\, and its transformative results\, with you.</p>\n\n<p style="margin-left:0px\; margin-right:0px"><strong><span style="color:inherit">Your experience includes:</span></strong></p>\n\n<div>\n<ul style="margin-left:0px\; margin-right:0px">\n	<li>A&nbsp\;masterclass gift bag valued at over $900\,&nbsp\;featuring some of Valmont&rsquo\;s most iconic and transformative products (with a touch of mystery inside)</li>\n	<li>$100 credit&nbsp\;toward your Elixir des Glaciers purchase that evening</li>\n	<li>Expert education and hands-on ritual discovery with Krista</li>\n	<li>Champagne &amp\; light bites to elevate the evening</li>\n</ul>\n\n<p style="margin-left:0px\; margin-right:0px">This is a rare opportunity to begin your Valmont ritual\, where results meet refinement\, and skincare becomes art.</p>\n\n<p style="margin-left:0px\; margin-right:0px"><strong><span style="color:inherit">Event details:</span></strong></p>\n\n<div>\n<div style="margin-left:0px !important\; margin-right:0px !important">\n<ul style="margin-left:0px\; margin-right:0px">\n	<li><strong>Date &amp\; time:</strong>&nbsp\;Wednesday\, October 15\, 5:30&ndash\;7:30 pm</li>\n	<li><strong>Location</strong>:&nbsp\;Loshen &amp\; Crem\, Edmonton</li>\n	<li><strong>Price:</strong>&nbsp\;$200 (includes $900+ gift bag &amp\; $100 product credit)</li>\n	<li><strong>Hosted by:&nbsp\;</strong>Krista\, National Educator\, Valmont Canada</li>\n	<li><strong>Capacity:</strong> Only 8 Spots Available</li>\n</ul>\n</div>\n</div>\n</div>\n
LOCATION:Loshen & Crem boutique: 5238 Windermere Blvd Edmonton\, AB T6W 0L9
UID:e.3496.12716
SEQUENCE:3
DTSTAMP:20260425T192450Z
URL:http://edmontonchamber.chambermaster.com/events/details/l-elixir-des-glaciers-masterclass-instore-edmonton-12716
END:VEVENT

END:VCALENDAR
