BEGIN:VCALENDAR
VERSION:2.0
PRODID:-//ChamberMaster//Event Calendar 2.0//EN
METHOD:PUBLISH
X-PUBLISHED-TTL:P3D
REFRESH-INTERVAL:P3D
CALSCALE:GREGORIAN
BEGIN:VEVENT
DTSTART;VALUE=DATE:20250224
DTEND;VALUE=DATE:20250228
TRANSP:TRANSPARENT
X-MICROSOFT-CDO-ALLDAYEVENT:TRUE
SUMMARY:MBTI® Certification Training Program For Canadians
DESCRIPTION:FOR CANADIAN COACHES ONLY \n\nThe MBTI  Certification Program maximizes your personal potential\, giving you the expertise and tools to immediately make a positive and lasting impact on individuals\, teams\, and leaders. \n\nThe 4-day program is facilitated via Zoom Meetings. \n\nAlong with video conference sessions and group activities participants complete self-directed learning assignments as part of each day's instruction. \n\nTopics Include: \n\n\n	Improving team performance \n\n\n\n	Developing leaders \n\n\n\n	Managing conflict \n\n\n\n	Improving communication \n\n\n\n	Handling stress \n\n\n\n	Guiding career exploration \n\n\nSpace is limited\, register today! \n\nDates Available: \n\nFeb 24   27\, 2025 \n\nMay 26   29\, 2025 \n\nAug 18   21\, 2025 \n\nLearn more or register today
X-ALT-DESC;FMTTYPE=text/html:<p>FOR CANADIAN COACHES ONLY&nbsp\;</p>\n\n<p>The MBTI&reg\; Certification Program maximizes your personal potential\, giving you the expertise and tools to immediately make a positive and lasting impact on individuals\, teams\, and leaders.&nbsp\;</p>\n\n<p>The 4-day program is facilitated via Zoom Meetings.&nbsp\;</p>\n\n<p>Along with video conference sessions and group activities participants complete self-directed learning assignments as part of each day&rsquo\;s instruction.&nbsp\;</p>\n\n<p>Topics Include:&nbsp\;</p>\n\n<ul>\n	<li>Improving team performance&nbsp\;</li>\n</ul>\n\n<ul>\n	<li>Developing leaders&nbsp\;</li>\n</ul>\n\n<ul>\n	<li>Managing conflict&nbsp\;</li>\n</ul>\n\n<ul>\n	<li>Improving communication&nbsp\;</li>\n</ul>\n\n<ul>\n	<li>Handling stress&nbsp\;</li>\n</ul>\n\n<ul>\n	<li>Guiding career exploration&nbsp\;</li>\n</ul>\n\n<p>Space is limited\,&nbsp\;<a href="https://www.psychometrics.com/training/mbti-certification/?utm_source=ECC&amp\;utm_medium=Event+Listing&amp\;utm_campaign=Training+Campaigns" style="box-sizing: inherit\; background: 0px 0px\; color: rgb(213\, 48\, 57)\;">register today!</a>&nbsp\;</p>\n\n<p>Dates Available:&nbsp\;</p>\n\n<p>Feb 24 &ndash\; 27\, 2025&nbsp\;</p>\n\n<p>May 26 &ndash\; 29\, 2025&nbsp\;</p>\n\n<p>Aug 18 &ndash\; 21\, 2025&nbsp\;</p>\n\n<p><a href="https://www.psychometrics.com/training/mbti-certification/?utm_source=ECC&amp\;utm_medium=Event+Listing&amp\;utm_campaign=Training+Campaigns" style="box-sizing: inherit\; background: 0px 0px\; color: rgb(213\, 48\, 57)\;">Learn more or register today</a>&nbsp\;</p>\n
LOCATION:Virtual
UID:e.3496.11371
SEQUENCE:3
DTSTAMP:20260423T191100Z
URL:http://edmontonchamber.chambermaster.com/events/details/mbti-certification-training-program-for-canadians-02-24-2025-11371
END:VEVENT

END:VCALENDAR
