BEGIN:VCALENDAR
VERSION:2.0
PRODID:-//ChamberMaster//Event Calendar 2.0//EN
METHOD:PUBLISH
X-PUBLISHED-TTL:P3D
REFRESH-INTERVAL:P3D
CALSCALE:GREGORIAN
BEGIN:VEVENT
DTSTART:20250224T150000Z
DTEND:20250227T190000Z
X-MICROSOFT-CDO-ALLDAYEVENT:FALSE
SUMMARY:MBTI® Certification Training Program For Canadians
DESCRIPTION:FOR CANADIAN COACHES ONLY The MBTI  Certification Program maximizes your personal potential\, giving you the expertise and tools to immediately make a positive and lasting impact on individuals\, teams\, and leaders. The 4-day program is facilitated via Zoom Meetings. Along with video conference sessions and group activities participants complete self-directed learning assignments as part of each day's instruction. Topics Include: Improving team performance Developing leaders Managing conflict Improving communication Handling stress Guiding career exploration Space is limited\, register today! Dates Available: Feb 24   27\, 2025 May 26   29\, 2025 Aug 18   21\, 2025 Learn more or register today
X-ALT-DESC;FMTTYPE=text/html:FOR CANADIAN COACHES ONLY The MBTI&reg\; Certification Program maximizes your personal potential\, giving you the expertise and tools to immediately make a positive and lasting impact on individuals\, teams\, and leaders. The 4-day program is facilitated via Zoom Meetings. Along with video conference sessions and group activities participants complete self-directed learning assignments as part of each day&rsquo\;s instruction. Topics Include: Improving team performance Developing leaders Managing conflict Improving communication Handling stress Guiding career exploration Space is limited\, register today! Dates Available: Feb 24 &ndash\; 27\, 2025 May 26 &ndash\; 29\, 2025 Aug 18 &ndash\; 21\, 2025 Learn more or register today
LOCATION:Virtual
UID:e.3496.11370
SEQUENCE:3
DTSTAMP:20260424T094252Z
URL:http://edmontonchamber.chambermaster.com/events/details/mbti-certification-training-program-for-canadians-11370
END:VEVENT

END:VCALENDAR
